BEGIN:VCALENDAR
VERSION:2.0
PRODID:-//Alamosa Volunteer Search and Rescue - ECPv6.15.20//NONSGML v1.0//EN
CALSCALE:GREGORIAN
METHOD:PUBLISH
X-ORIGINAL-URL:https://www.avsar.us
X-WR-CALDESC:Events for Alamosa Volunteer Search and Rescue
REFRESH-INTERVAL;VALUE=DURATION:PT1H
X-Robots-Tag:noindex
X-PUBLISHED-TTL:PT1H
BEGIN:VTIMEZONE
TZID:America/Denver
BEGIN:DAYLIGHT
TZOFFSETFROM:-0700
TZOFFSETTO:-0600
TZNAME:MDT
DTSTART:20190310T090000
END:DAYLIGHT
BEGIN:STANDARD
TZOFFSETFROM:-0600
TZOFFSETTO:-0700
TZNAME:MST
DTSTART:20191103T080000
END:STANDARD
BEGIN:DAYLIGHT
TZOFFSETFROM:-0700
TZOFFSETTO:-0600
TZNAME:MDT
DTSTART:20200308T090000
END:DAYLIGHT
BEGIN:STANDARD
TZOFFSETFROM:-0600
TZOFFSETTO:-0700
TZNAME:MST
DTSTART:20201101T080000
END:STANDARD
BEGIN:DAYLIGHT
TZOFFSETFROM:-0700
TZOFFSETTO:-0600
TZNAME:MDT
DTSTART:20210314T090000
END:DAYLIGHT
BEGIN:STANDARD
TZOFFSETFROM:-0600
TZOFFSETTO:-0700
TZNAME:MST
DTSTART:20211107T080000
END:STANDARD
BEGIN:DAYLIGHT
TZOFFSETFROM:-0700
TZOFFSETTO:-0600
TZNAME:MDT
DTSTART:20220313T090000
END:DAYLIGHT
BEGIN:STANDARD
TZOFFSETFROM:-0600
TZOFFSETTO:-0700
TZNAME:MST
DTSTART:20221106T080000
END:STANDARD
BEGIN:DAYLIGHT
TZOFFSETFROM:-0700
TZOFFSETTO:-0600
TZNAME:MDT
DTSTART:20230312T090000
END:DAYLIGHT
BEGIN:STANDARD
TZOFFSETFROM:-0600
TZOFFSETTO:-0700
TZNAME:MST
DTSTART:20231105T080000
END:STANDARD
BEGIN:DAYLIGHT
TZOFFSETFROM:-0700
TZOFFSETTO:-0600
TZNAME:MDT
DTSTART:20240310T090000
END:DAYLIGHT
BEGIN:STANDARD
TZOFFSETFROM:-0600
TZOFFSETTO:-0700
TZNAME:MST
DTSTART:20241103T080000
END:STANDARD
END:VTIMEZONE
BEGIN:VEVENT
DTSTART;TZID=America/Denver:20230819T150000
DTEND;TZID=America/Denver:20230819T230000
DTSTAMP:20260423T163637
CREATED:20230729T003821Z
LAST-MODIFIED:20230729T003821Z
UID:1632-1692457200-1692486000@www.avsar.us
SUMMARY:Suds4SAR - 2023
DESCRIPTION:Celebrate our annual fundraiser with us on August 19! On the corner of San Juan and Main\, we’ll have live music\, beer\, games\, merchandise\, and more! We rely on public fundraising to help us do our mission\, so come down and mingle with the volunteers.
URL:https://www.avsar.us/event/suds4sar-2023/
LOCATION:San Luis Brewing Company
END:VEVENT
BEGIN:VEVENT
DTSTART;TZID=America/Denver:20220725T150000
DTEND;TZID=America/Denver:20220820T220000
DTSTAMP:20260423T163637
CREATED:20220725T210041Z
LAST-MODIFIED:20220725T173003Z
UID:1077-1658761200-1661032800@www.avsar.us
SUMMARY:SUDS4SAR
DESCRIPTION:1500-2200hours @ San Luis Valley Brewing Company  \nSET UP@ 1400hours  \nTEAR DOWN @ 2200hours
URL:https://www.avsar.us/event/suds4sar/
LOCATION:San Luis Brewing Company
CATEGORIES:Fundraisers
ATTACH;FMTTYPE=image/jpeg:https://www.avsar.us/wp-content/uploads/2019/02/Team-Photo-1.jpg
END:VEVENT
BEGIN:VEVENT
DTSTART;TZID=America/Denver:20211228T180000
DTEND;TZID=America/Denver:20211228T200000
DTSTAMP:20260423T163637
CREATED:20201115T215319Z
LAST-MODIFIED:20201115T215319Z
UID:1223-1640714400-1640721600@www.avsar.us
SUMMARY:Monthly Meeting
DESCRIPTION:
URL:https://www.avsar.us/event/monthly-meeting-13/
LOCATION:Alamosa County Sheriff’s Office
CATEGORIES:Meeting
ATTACH;FMTTYPE=image/png:https://www.avsar.us/wp-content/uploads/2019/08/AVSAR_Logo_HQ-small.png
END:VEVENT
BEGIN:VEVENT
DTSTART;TZID=America/Denver:20211123T180000
DTEND;TZID=America/Denver:20211123T200000
DTSTAMP:20260423T163637
CREATED:20201115T214653Z
LAST-MODIFIED:20201115T215359Z
UID:1207-1637690400-1637697600@www.avsar.us
SUMMARY:Monthly Meeting
DESCRIPTION:
URL:https://www.avsar.us/event/monthly-meeting/
LOCATION:Alamosa County Sheriff’s Office
CATEGORIES:Meeting
ATTACH;FMTTYPE=image/png:https://www.avsar.us/wp-content/uploads/2019/08/AVSAR_Logo_HQ-small.png
END:VEVENT
BEGIN:VEVENT
DTSTART;TZID=America/Denver:20211026T180000
DTEND;TZID=America/Denver:20211026T200000
DTSTAMP:20260423T163637
CREATED:20200104T203916Z
LAST-MODIFIED:20201115T215414Z
UID:1087-1635271200-1635278400@www.avsar.us
SUMMARY:Monthly Meeting
DESCRIPTION:ANNUAL EXECUTIVE BOARD MEMBER ELECTIONS
URL:https://www.avsar.us/event/monthly-meeting-10/
CATEGORIES:Meeting
ATTACH;FMTTYPE=image/png:https://www.avsar.us/wp-content/uploads/2019/08/AVSAR_Logo_HQ-small.png
END:VEVENT
BEGIN:VEVENT
DTSTART;TZID=America/Denver:20210928T180000
DTEND;TZID=America/Denver:20210928T200000
DTSTAMP:20260423T163637
CREATED:20200104T203730Z
LAST-MODIFIED:20201115T215436Z
UID:1085-1632852000-1632859200@www.avsar.us
SUMMARY:Monthly Meeting
DESCRIPTION:
URL:https://www.avsar.us/event/monthly-meeting-9/
LOCATION:Alamosa County Sheriff’s Office
CATEGORIES:Meeting
ATTACH;FMTTYPE=image/png:https://www.avsar.us/wp-content/uploads/2019/08/AVSAR_Logo_HQ-small.png
END:VEVENT
BEGIN:VEVENT
DTSTART;TZID=America/Denver:20210824T180000
DTEND;TZID=America/Denver:20210824T200000
DTSTAMP:20260423T163637
CREATED:20200104T203436Z
LAST-MODIFIED:20201115T215512Z
UID:1079-1629828000-1629835200@www.avsar.us
SUMMARY:Monthly Meeting
DESCRIPTION:
URL:https://www.avsar.us/event/monthly-meeting-8/
LOCATION:Alamosa County Sheriff’s Office
CATEGORIES:Meeting
ATTACH;FMTTYPE=image/png:https://www.avsar.us/wp-content/uploads/2019/08/AVSAR_Logo_HQ-small.png
END:VEVENT
BEGIN:VEVENT
DTSTART;TZID=America/Denver:20210727T180000
DTEND;TZID=America/Denver:20210727T200000
DTSTAMP:20260423T163637
CREATED:20201115T214745Z
LAST-MODIFIED:20201115T215545Z
UID:1209-1627408800-1627416000@www.avsar.us
SUMMARY:Monthly Meeting
DESCRIPTION:
URL:https://www.avsar.us/event/monthly-meeting-2/
LOCATION:Alamosa County Sheriff’s Office
CATEGORIES:Meeting
ATTACH;FMTTYPE=image/png:https://www.avsar.us/wp-content/uploads/2019/08/AVSAR_Logo_HQ-small.png
END:VEVENT
BEGIN:VEVENT
DTSTART;TZID=America/Denver:20210622T180000
DTEND;TZID=America/Denver:20210622T200000
DTSTAMP:20260423T163637
CREATED:20201115T214834Z
LAST-MODIFIED:20201115T215614Z
UID:1211-1624384800-1624392000@www.avsar.us
SUMMARY:Monthly Meeting
DESCRIPTION:
URL:https://www.avsar.us/event/monthly-meeting-3/
LOCATION:Alamosa County Sheriff’s Office
CATEGORIES:Meeting
ATTACH;FMTTYPE=image/png:https://www.avsar.us/wp-content/uploads/2019/08/AVSAR_Logo_HQ-small.png
END:VEVENT
BEGIN:VEVENT
DTSTART;TZID=America/Denver:20210525T180000
DTEND;TZID=America/Denver:20210525T200000
DTSTAMP:20260423T163637
CREATED:20201115T214934Z
LAST-MODIFIED:20201115T215627Z
UID:1213-1621965600-1621972800@www.avsar.us
SUMMARY:Monthly Meeting
DESCRIPTION:
URL:https://www.avsar.us/event/monthly-meeting-4/
CATEGORIES:Meeting
ATTACH;FMTTYPE=image/png:https://www.avsar.us/wp-content/uploads/2019/08/AVSAR_Logo_HQ-small.png
END:VEVENT
BEGIN:VEVENT
DTSTART;TZID=America/Denver:20210427T180000
DTEND;TZID=America/Denver:20210427T200000
DTSTAMP:20260423T163637
CREATED:20201115T215017Z
LAST-MODIFIED:20201115T215643Z
UID:1215-1619546400-1619553600@www.avsar.us
SUMMARY:Monthly Meeting
DESCRIPTION:
URL:https://www.avsar.us/event/monthly-meeting-5/
LOCATION:Alamosa County Sheriff’s Office
CATEGORIES:Meeting
ATTACH;FMTTYPE=image/png:https://www.avsar.us/wp-content/uploads/2019/08/AVSAR_Logo_HQ-small.png
END:VEVENT
BEGIN:VEVENT
DTSTART;TZID=America/Denver:20210323T180000
DTEND;TZID=America/Denver:20210323T200000
DTSTAMP:20260423T163637
CREATED:20201115T215100Z
LAST-MODIFIED:20201115T215734Z
UID:1217-1616522400-1616529600@www.avsar.us
SUMMARY:Monthly Meeting
DESCRIPTION:
URL:https://www.avsar.us/event/monthly-meeting-6/
LOCATION:Alamosa County Sheriff’s Office
CATEGORIES:Meeting
ATTACH;FMTTYPE=image/png:https://www.avsar.us/wp-content/uploads/2019/08/AVSAR_Logo_HQ-small.png
END:VEVENT
BEGIN:VEVENT
DTSTART;TZID=America/Denver:20210223T180000
DTEND;TZID=America/Denver:20210223T200000
DTSTAMP:20260423T163637
CREATED:20201115T215147Z
LAST-MODIFIED:20201115T215743Z
UID:1219-1614103200-1614110400@www.avsar.us
SUMMARY:Monthly Meeting
DESCRIPTION:
URL:https://www.avsar.us/event/monthly-meeting-7/
LOCATION:Alamosa County Sheriff’s Office
CATEGORIES:Meeting
ATTACH;FMTTYPE=image/png:https://www.avsar.us/wp-content/uploads/2019/08/AVSAR_Logo_HQ-small.png
END:VEVENT
BEGIN:VEVENT
DTSTART;TZID=America/Denver:20210126T180000
DTEND;TZID=America/Denver:20210126T200000
DTSTAMP:20260423T163637
CREATED:20201115T215238Z
LAST-MODIFIED:20201115T215238Z
UID:1221-1611684000-1611691200@www.avsar.us
SUMMARY:Monthly Meeting
DESCRIPTION:
URL:https://www.avsar.us/event/monthly-meeting-12/
LOCATION:Alamosa County Sheriff’s Office
CATEGORIES:Meeting
ATTACH;FMTTYPE=image/png:https://www.avsar.us/wp-content/uploads/2019/08/AVSAR_Logo_HQ-small.png
END:VEVENT
BEGIN:VEVENT
DTSTART;TZID=America/Denver:20201124T160000
DTEND;TZID=America/Denver:20201124T180000
DTSTAMP:20260423T163637
CREATED:20200104T204025Z
LAST-MODIFIED:20200104T204025Z
UID:1089-1606233600-1606240800@www.avsar.us
SUMMARY:Monthly Meeting
DESCRIPTION:
URL:https://www.avsar.us/event/monthly-meeting-11/
LOCATION:Alamosa County Sheriff’s Office
CATEGORIES:Meeting
ATTACH;FMTTYPE=image/png:https://www.avsar.us/wp-content/uploads/2019/08/AVSAR_Logo_HQ-small.png
END:VEVENT
END:VCALENDAR